BEGIN:VCALENDAR
VERSION:2.0
PRODID:-//Sonata - ECPv6.10.1//NONSGML v1.0//EN
CALSCALE:GREGORIAN
METHOD:PUBLISH
X-WR-CALNAME:Sonata
X-ORIGINAL-URL:https://sonata-nbs.com
X-WR-CALDESC:Events for Sonata
REFRESH-INTERVAL;VALUE=DURATION:PT1H
X-Robots-Tag:noindex
X-PUBLISHED-TTL:PT1H
BEGIN:VTIMEZONE
TZID:Europe/Belgrade
BEGIN:DAYLIGHT
TZOFFSETFROM:+0100
TZOFFSETTO:+0200
TZNAME:CEST
DTSTART:20250330T010000
END:DAYLIGHT
BEGIN:STANDARD
TZOFFSETFROM:+0200
TZOFFSETTO:+0100
TZNAME:CET
DTSTART:20251026T010000
END:STANDARD
END:VTIMEZONE
BEGIN:VEVENT
DTSTART;TZID=Europe/Belgrade:20251031T100000
DTEND;TZID=Europe/Belgrade:20251031T120000
DTSTAMP:20260423T005539
CREATED:20260119T093333Z
LAST-MODIFIED:20260119T093333Z
UID:2003-1761904800-1761912000@sonata-nbs.com
SUMMARY:Pollination ecology workshop
DESCRIPTION:SONATA investigates how restoring seminatural grasslands can be a nature-based solution for increasing farmland biodiversity and including the abundance of insect pollinators\, pollination services to crops\, and thereby crop production. In this workshop guest lecturer Professor Ørjan Totland from the University of Bergen will set the stage by introducing us to the field of pollination ecology. The lecture will be followed by a hands-on exercise on the analysis of effects of pollinator abundance on crop pollination. Aim of the workshop is to familiarise participants with the field of pollination ecology and gain hands on experience from analyzing data on pollen limitation. The workshop ensures that SONATA NbS modelling is grounded not only in spatial patterns but also in ecosystem process dynamics and ecosystem service delivery.
URL:https://sonata-nbs.com/event/pollination-ecology-workshop/
LOCATION:Online
END:VEVENT
END:VCALENDAR