BEGIN:VCALENDAR
VERSION:2.0
PRODID:-//Sonata - ECPv6.10.1//NONSGML v1.0//EN
CALSCALE:GREGORIAN
METHOD:PUBLISH
X-WR-CALNAME:Sonata
X-ORIGINAL-URL:https://sonata-nbs.com
X-WR-CALDESC:Events for Sonata
REFRESH-INTERVAL;VALUE=DURATION:PT1H
X-Robots-Tag:noindex
X-PUBLISHED-TTL:PT1H
BEGIN:VTIMEZONE
TZID:Europe/Belgrade
BEGIN:DAYLIGHT
TZOFFSETFROM:+0100
TZOFFSETTO:+0200
TZNAME:CEST
DTSTART:20240331T010000
END:DAYLIGHT
BEGIN:STANDARD
TZOFFSETFROM:+0200
TZOFFSETTO:+0100
TZNAME:CET
DTSTART:20241027T010000
END:STANDARD
BEGIN:DAYLIGHT
TZOFFSETFROM:+0100
TZOFFSETTO:+0200
TZNAME:CEST
DTSTART:20250330T010000
END:DAYLIGHT
BEGIN:STANDARD
TZOFFSETFROM:+0200
TZOFFSETTO:+0100
TZNAME:CET
DTSTART:20251026T010000
END:STANDARD
END:VTIMEZONE
BEGIN:VEVENT
DTSTART;TZID=Europe/Belgrade:20251008T100000
DTEND;TZID=Europe/Belgrade:20251008T100000
DTSTAMP:20260423T010223
CREATED:20251002T093438Z
LAST-MODIFIED:20251002T094010Z
UID:1980-1759917600-1759917600@sonata-nbs.com
SUMMARY:NbS Hub Webinar/workshop
DESCRIPTION:One of the key outcomes of SONATA is the NBS Team (NbS-T) (Hub or centre). After previous workshops focused more on the NbS Living Lab\, we are now looking more into the setup and functioning of NbS Hubs. In this workshop\, two well experienced guests will present the setup\, main activities\, strategy\, funding and other important aspects of NbS Hubs they are both involved in. After the two presentations and a shorter question session we will have a more open discussion/workshop within all the attendants. \nThe workshop will be organized by NINA.
URL:https://sonata-nbs.com/event/nbs-hub-webinar-workshop/
END:VEVENT
BEGIN:VEVENT
DTSTART;VALUE=DATE:20250930
DTEND;VALUE=DATE:20251001
DTSTAMP:20260423T010223
CREATED:20250818T104417Z
LAST-MODIFIED:20250829T084312Z
UID:1916-1759190400-1759276799@sonata-nbs.com
SUMMARY:BIOS team visit to FIHAC
DESCRIPTION:BIOS team members dr Tijana Nikolić Lugonja\, Ivana Pejović\, Aleksandra Gašić Čolić will visit FIHAC for a research project management training. This visit aims to strengthen BIOS’s skills in coordinating complex research projects\, improving planning and reporting processes\, and ensuring the successful implementation of ongoing and future initiatives. The training will also provide an excellent opportunity for knowledge exchange and collaboration with FIHAC experts.
URL:https://sonata-nbs.com/event/bios-team-visit-to-fihac/
END:VEVENT
BEGIN:VEVENT
DTSTART;VALUE=DATE:20250923
DTEND;VALUE=DATE:20250924
DTSTAMP:20260423T010223
CREATED:20250818T104207Z
LAST-MODIFIED:20250818T104207Z
UID:1914-1758585600-1758671999@sonata-nbs.com
SUMMARY:SONATA consortium meeting in Mieres (Spain) organized by UNIOVI
DESCRIPTION:SONATA team will gather at the consortium meeting organized by UNIOVI in Mieres\, Spain. During this meeting\, the consortium will present and discuss the task progress during the first year of the project and plan the upcoming activities. The meeting provides a valuable platform for strengthening cooperation\, exchanging knowledge\, and aligning strategies to ensure the successful implementation of SONATA objectives.
URL:https://sonata-nbs.com/event/sonata-consortium-meeting-in-mieres-spain-organized-by-uniovi/
END:VEVENT
BEGIN:VEVENT
DTSTART;VALUE=DATE:20250903
DTEND;VALUE=DATE:20250904
DTSTAMP:20260423T010223
CREATED:20250818T103850Z
LAST-MODIFIED:20250818T103850Z
UID:1912-1756857600-1756943999@sonata-nbs.com
SUMMARY:SONATA at IALE 2025 European Landscape Ecology Congress in Bratislava
DESCRIPTION:SONATA coordinator\, Dr Tijana Nikolić Lugonja will present abstract titled “Monitoring of Nature Infrastructure – Skill Acquisition for Nature-based Solutions”\, during the session The Green Transition of European Landscapes – from Ambitious Spatial Plans to Comprehensive Land Use Changes at the European Landscape Ecology Congress in Bratislava (2-5 September). The Congress will focus on Landscape Perspectives in a Rapidly Changing World. The congress themes underscore the importance of holistic\, theoretical and empirical\, data-driven approaches to understanding and managing of all types of landscapes in the context of rapid environmental and societal changes.
URL:https://sonata-nbs.com/event/sonata-at-iale-2025-european-landscape-ecology-congress-in-bratislava/
END:VEVENT
BEGIN:VEVENT
DTSTART;TZID=Europe/Belgrade:20250430T100000
DTEND;TZID=Europe/Belgrade:20250430T143000
DTSTAMP:20260423T010223
CREATED:20250425T095252Z
LAST-MODIFIED:20250425T095252Z
UID:1859-1746007200-1746023400@sonata-nbs.com
SUMMARY:Living Lab and Stakeholder role-play workshop
DESCRIPTION:In this workshop\, we will supplement the stakeholder list we made at the physical workshop\, as well as discuss and finalize the Living Lab design\, including proposed activities. During the final part of this workshop\, we will conduct a role game\, to try to think a little bit more like SONATA stakeholders to prepare ourselves for fruitful work in the Living Lab.
URL:https://sonata-nbs.com/event/living-lab-and-stakeholder-role-play-workshop/
END:VEVENT
BEGIN:VEVENT
DTSTART;TZID=Europe/Belgrade:20250428T100000
DTEND;TZID=Europe/Belgrade:20250428T130000
DTSTAMP:20260423T010223
CREATED:20250425T094154Z
LAST-MODIFIED:20250425T094154Z
UID:1856-1745834400-1745845200@sonata-nbs.com
SUMMARY:NbS Spatial model development workshop
DESCRIPTION:During this workshop\, we will focus on the spatial model being developed to help indentify optimal locations for nature-based solutions (NbS\, such as flower strips) to maximize crop yield\, pollinator diversity and soil organic carbon.
URL:https://sonata-nbs.com/event/nbs-spatial-model-development-workshop/
END:VEVENT
BEGIN:VEVENT
DTSTART;TZID=Europe/Belgrade:20250318T100000
DTEND;TZID=Europe/Belgrade:20250318T130000
DTSTAMP:20260423T010223
CREATED:20250312T100616Z
LAST-MODIFIED:20250312T100616Z
UID:1783-1742292000-1742302800@sonata-nbs.com
SUMMARY:Online Workshop on Boosting BIOS Capacity for Managing and  Coordinating R&I HE Projects
DESCRIPTION:SONATA partners will offer their knowledge on project management on the highest level to help promote BIOS M&A staff into relevant members of European projects ecosystem.
URL:https://sonata-nbs.com/event/online-workshop-on-boosting-bios-capacity-for-managing-and-coordinating-ri-he-projects/
END:VEVENT
BEGIN:VEVENT
DTSTART;TZID=Europe/Belgrade:20250310T090000
DTEND;TZID=Europe/Belgrade:20250310T163000
DTSTAMP:20260423T010223
CREATED:20250207T152605Z
LAST-MODIFIED:20250207T152605Z
UID:1629-1741597200-1741624200@sonata-nbs.com
SUMMARY:SONATA Workshop No 2
DESCRIPTION:Habitat mapping and Earth Observation workflows in openEO – Getting started with openEO for processing diverse Earth Observation datasets
URL:https://sonata-nbs.com/event/sonata-workshop-no-2/
END:VEVENT
BEGIN:VEVENT
DTSTART;TZID=Europe/Belgrade:20250227T090000
DTEND;TZID=Europe/Belgrade:20250227T140000
DTSTAMP:20260423T010223
CREATED:20250218T135319Z
LAST-MODIFIED:20250218T135319Z
UID:1757-1740646800-1740664800@sonata-nbs.com
SUMMARY:SONATA Workshop 1 Part II
DESCRIPTION:In-situ data refining for habitat mapping. Additionally\, a Digital soil mapping session will be held via Zoom.
URL:https://sonata-nbs.com/event/sonata-workshop-1-part-ii/
LOCATION:BioSense Institute\, Dr Zorana Đinđića 1\, Novi Sad\, Vojvodina\, Serbia
END:VEVENT
BEGIN:VEVENT
DTSTART;VALUE=DATE:20250225
DTEND;VALUE=DATE:20250227
DTSTAMP:20260423T010223
CREATED:20250221T114740Z
LAST-MODIFIED:20250221T114740Z
UID:1763-1740441600-1740614399@sonata-nbs.com
SUMMARY:SONATA Workshop on NBS
DESCRIPTION:Nature-based Solutions and the Living Lab
URL:https://sonata-nbs.com/event/sonata-workshop-on-nbs/
LOCATION:BioSense Institute\, Dr Zorana Đinđića 1\, Novi Sad\, Vojvodina\, Serbia
END:VEVENT
BEGIN:VEVENT
DTSTART;TZID=Europe/Belgrade:20250129T100000
DTEND;TZID=Europe/Belgrade:20250129T120000
DTSTAMP:20260423T010223
CREATED:20250211T135339Z
LAST-MODIFIED:20250211T135741Z
UID:1701-1738144800-1738152000@sonata-nbs.com
SUMMARY:NBS Preparatory Workshop
DESCRIPTION:Digital preparatory workshop as a starting point for the physical NBS workshop
URL:https://sonata-nbs.com/event/nbs-preparatory-workshop/
END:VEVENT
BEGIN:VEVENT
DTSTART;VALUE=DATE:20241128
DTEND;VALUE=DATE:20241129
DTSTAMP:20260423T010223
CREATED:20241209T083030Z
LAST-MODIFIED:20250211T135512Z
UID:1036-1732752000-1732838399@sonata-nbs.com
SUMMARY:Sustainable Future 2025
DESCRIPTION:Innovations and Best Practices for Reducing Carbon Footprint
URL:https://sonata-nbs.com/event/sustainable-future-2025/
END:VEVENT
BEGIN:VEVENT
DTSTART;VALUE=DATE:20241126
DTEND;VALUE=DATE:20241127
DTSTAMP:20260423T010223
CREATED:20241209T082925Z
LAST-MODIFIED:20250211T135440Z
UID:1034-1732579200-1732665599@sonata-nbs.com
SUMMARY:SONATA Workshop No 1
DESCRIPTION:In-situ habitat data collection and processing
URL:https://sonata-nbs.com/event/sonata-workshop-no-1/
END:VEVENT
END:VCALENDAR