BEGIN:VCALENDAR
VERSION:2.0
PRODID:-//Sonata - ECPv6.10.1//NONSGML v1.0//EN
CALSCALE:GREGORIAN
METHOD:PUBLISH
X-WR-CALNAME:Sonata
X-ORIGINAL-URL:https://sonata-nbs.com
X-WR-CALDESC:Events for Sonata
REFRESH-INTERVAL;VALUE=DURATION:PT1H
X-Robots-Tag:noindex
X-PUBLISHED-TTL:PT1H
BEGIN:VTIMEZONE
TZID:Europe/Belgrade
BEGIN:DAYLIGHT
TZOFFSETFROM:+0100
TZOFFSETTO:+0200
TZNAME:CEST
DTSTART:20250330T010000
END:DAYLIGHT
BEGIN:STANDARD
TZOFFSETFROM:+0200
TZOFFSETTO:+0100
TZNAME:CET
DTSTART:20251026T010000
END:STANDARD
END:VTIMEZONE
BEGIN:VEVENT
DTSTART;VALUE=DATE:20250903
DTEND;VALUE=DATE:20250904
DTSTAMP:20260422T195504
CREATED:20250818T103850Z
LAST-MODIFIED:20250818T103850Z
UID:1912-1756857600-1756943999@sonata-nbs.com
SUMMARY:SONATA at IALE 2025 European Landscape Ecology Congress in Bratislava
DESCRIPTION:SONATA coordinator\, Dr Tijana Nikolić Lugonja will present abstract titled “Monitoring of Nature Infrastructure – Skill Acquisition for Nature-based Solutions”\, during the session The Green Transition of European Landscapes – from Ambitious Spatial Plans to Comprehensive Land Use Changes at the European Landscape Ecology Congress in Bratislava (2-5 September). The Congress will focus on Landscape Perspectives in a Rapidly Changing World. The congress themes underscore the importance of holistic\, theoretical and empirical\, data-driven approaches to understanding and managing of all types of landscapes in the context of rapid environmental and societal changes.
URL:https://sonata-nbs.com/event/sonata-at-iale-2025-european-landscape-ecology-congress-in-bratislava/
END:VEVENT
END:VCALENDAR